BEGIN:VCALENDAR
VERSION:2.0
PRODID:-//wp-events-plugin.com//7.1.7//EN
TZID:Europe/Paris
X-WR-TIMEZONE:Europe/Paris
BEGIN:VEVENT
UID:0-2230@nouvelles-renaissances.com
DTSTART:20260704T000000Z
DTEND:20260705T235959Z
DTSTAMP:20260227T150522Z
URL:https://www.nouvelles-renaissances.com/evenements/19e-edition-du-salon
 -des-curiosites/
SUMMARY:19e édition du Salon des Curiosités
DESCRIPTION:Le château d’Ainay-le-Vieil accueille près d’une trentain
 e d’antiquaires qui investissent pour l’occasion plusieurs espaces emb
 lématiques du site. Leurs stands prennent place dans la Salle des Archers
 \, la Salle des Équipages\, la Sellerie\, ainsi que dans la cour du chât
 eau\, transformant l’ensemble du domaine en un véritable parcours dédi
 é aux objets anciens\, aux curiosités et aux savoir-faire d’autrefois.
  Une atmosphère unique où patrimoine architectural et trésors d’antiq
 uités se répondent harmonieusement.\nInformations et réservation :\nTé
 l : 02 48 63 02 88 \nhttps://chateau-ainaylevieil.fr/evenement/19e-edition
 -du-salon-des-curiosites/
ATTACH;FMTTYPE=image/jpeg:https://www.nouvelles-renaissances.com/app/uploa
 ds/1/2026/02/20260704-Ainay-SALON-DES-CURIOSITES-Affiche_69983cc9004342.66
 131214-scaled.jpg
CATEGORIES:Expos,Visites / Ateliers
LOCATION:Château d’Ainay le Vieil\, 7 rue du Château  18200 Ainay-le-Vi
 eil\, France
X-APPLE-STRUCTURED-LOCATION;VALUE=URI;X-ADDRESS=7 rue du Château  18200 Ai
 nay-le-Vieil\, France;X-APPLE-RADIUS=100;X-TITLE=Château d’Ainay le Vie
 il:geo:0,0
END:VEVENT
END:VCALENDAR