BEGIN:VCALENDAR
VERSION:2.0
PRODID:-//wp-events-plugin.com//7.1.7//EN
TZID:Europe/Paris
X-WR-TIMEZONE:Europe/Paris
BEGIN:VEVENT
UID:0-2227@nouvelles-renaissances.com
DTSTART:20260807T000000Z
DTEND:20260807T235959Z
DTSTAMP:20260416T090115Z
URL:https://www.nouvelles-renaissances.com/evenements/balade-apero-sur-le-
 cher/
SUMMARY:Balade-apéro sur le Cher
DESCRIPTION:En fin de journée\, je vous convie à un moment de navigation 
 et de gourmandise sur le Cher\, en compagnie des Mariniers du Jean Bricau.
  Ce dernier est le nom du futreau (bateau traditionnel en bois) sur lequel
  nous proposons nos balades-dégustations. Notre partenariat a débuté pe
 ndant l’été 2020\, dans le cadre de l’opération “7 vins / 7 lieux
  insolites” organisée par les offices de tourisme de la Touraine. Ravis
  du succès des sorties proposées pendant la saison 2020\, nous avons dé
 cidé de renouveler notre offre et de naviguer à nouveau ensemble\, et ce
  depuis 6 saisons désormais. Venez découvrir quelques vins et AOC de Tou
 raine le temps d’un apéro sur le Cher\, à bord d’un futreau\, bateau
  traditionnel du Val de Loire. Un moment de détente qui vous permettra de
  profiter de superbes paysages et lumières – amateurs de photographie\,
  vous allez vous régaler ! L’embarquement et le retour se font au port 
 de Véretz (37)\, pour une balade d’environ une heure et demie\, qui vou
 s donnera l’occasion de découvrir l’histoire du village et du châtea
 u de Véretz et les fameux barrages à aiguilles qui ponctuent le Cher ent
 re Saint Aignan et Tours. Le temps de navigation vous permettra de dégust
 er 3 vins produits le long du Cher\, et accompagnés de bouchées de produ
 its régionaux (rillettes de poisson de Loire\, charcuteries et fromages d
 e Touraine\, macaron de Cormery ou nougat de Tours).\nInformations et rés
 ervation :\n1 date\, 3 départ (17h\, 18h30 et 20h)\n Réservation obligat
 oire\nDurée : 1h30
ATTACH;FMTTYPE=image/jpeg:https://www.nouvelles-renaissances.com/app/uploa
 ds/1/2026/02/balade-apero-cher-degustation-vin-Loire-petit-format_69981bce
 4a19f9.50096359.jpg
CATEGORIES:Gastronomie,Sur les flots
LOCATION:Port de Véretz\, Rue du vieux moulin 37270 Véretz\, France
X-APPLE-STRUCTURED-LOCATION;VALUE=URI;X-ADDRESS=Rue du vieux moulin 37270 V
 éretz\, France;X-APPLE-RADIUS=100;X-TITLE=Port de Véretz:geo:0,0
END:VEVENT
END:VCALENDAR