BEGIN:VCALENDAR
VERSION:2.0
PRODID:-//wp-events-plugin.com//7.1.7//EN
TZID:Europe/Paris
X-WR-TIMEZONE:Europe/Paris
BEGIN:VEVENT
UID:0-2222@nouvelles-renaissances.com
DTSTART:20260328T000000Z
DTEND:20260329T235959Z
DTSTAMP:20260224T152248Z
URL:https://www.nouvelles-renaissances.com/evenements/equinoxe/
SUMMARY:Guinguette de l’Équinoxe
DESCRIPTION:EQUINOXE – Soirée Concerts\nNous sommes ravis de vous retrou
 ver pour inaugurer une nouvelle soirée de concerts à la guinguette de Be
 aulieu-lès-Loches.Équinoxe\, c’est une traversée sonore entre trois u
 nivers\, trois énergies\, trois façons de vivre la musique. Une soirée 
 chaleureuse\, festive et ouverte à toutes et tous\, avec une envie simple
  : se retrouver\, vibrer et partager.\nAu programme\nSelon les Humains : D
 es chansons poétiques\, décalées\, parfois tendres\, parfois impertinen
 tes — un voyage sensible porté par des textes qui font sourire\, réfl
 échir et rêver.\nThe Banshee : Un post-rock celtique progressif puissant
  et envoûtant. Des sonorités hypnotiques\, des envolées instrumentales 
 et une atmosphère immersive pour un moment hors du temps.\nNo Name : Pour
  clôturer la soirée : une session techno irrésistible\, idéale pour pr
 olonger la nuit et faire danser la guinguette jusqu’au bout.\nL’après
 -midi pour les enfants\nLa Cie Fouxfeurieux investira la guinguette pour d
 eux heures d’initiation ludique aux arts du cirque.Accompagnés des arti
 stes\, les enfants pourront explorer\, tester\, manipuler et s’amuser : 
 un véritable terrain de découverte ouvert à leur imagination.\nInformat
 ions et réservation :\nOuverture du site : à partir de 16h\nConcerts : d
 e 20h à 1h\nBar &amp\; restauration sur place\nLieu : Guinguette de Beaul
 ieu-lès-Loches
ATTACH;FMTTYPE=image/jpeg:https://www.nouvelles-renaissances.com/app/uploa
 ds/1/2026/02/EQUINOXE-RESTO-BAR-JEUNE-PUB_69972f0f014b33.69692830.jpg
CATEGORIES:Festivals / Nocturnes,Spectacles / Concerts
LOCATION:Guinguette les Javanaises\, rue des viantaises 37600 Beaulieu-lès
 -loches\, France
X-APPLE-STRUCTURED-LOCATION;VALUE=URI;X-ADDRESS=rue des viantaises 37600 Be
 aulieu-lès-loches\, France;X-APPLE-RADIUS=100;X-TITLE=Guinguette les Java
 naises:geo:0,0
END:VEVENT
END:VCALENDAR