BEGIN:VCALENDAR
VERSION:2.0
PRODID:-//wp-events-plugin.com//7.1.7//EN
TZID:Europe/Paris
X-WR-TIMEZONE:Europe/Paris
BEGIN:VEVENT
UID:0-2350@nouvelles-renaissances.com
DTSTART:20260404T000000Z
DTEND:20270103T235959Z
DTSTAMP:20260410T143045Z
URL:https://www.nouvelles-renaissances.com/evenements/exposition-les-maitr
 es-de-levasion/
SUMMARY:Exposition "Les maitres de l'évasion"
DESCRIPTION:Se libérer de chaînes\, de coffres ou d’une cuve remplie d
 ’eau : l’évasion est devenue un art avec Harry Houdini\, pionnier de 
 l’escapologie et roi incontesté du suspense. Apparue à la fin du XIXe 
 siècle\, l’escapologie a toujours fait rimer le spectaculaire à l’il
 lusion où les magiciens défient l’impossible avec force\, souplesse et
  sang-froid. De Steens à Jean Regil en passant par David Blaine\, l’exp
 osition rend hommage aux grands noms de l’évasion. Affiches\, archives\
 , accessoires et secrets de numéros lèvent les verrous d’un art où l
 ’on s’échappe toujours… mais jamais sans style.\nInformations et r
 éservation :\nExposition incluse dans le prix d’entrée
ATTACH;FMTTYPE=image/jpeg:https://www.nouvelles-renaissances.com/app/uploa
 ds/1/2026/04/12920_69d605e9e4e255.96620903.jpg
CATEGORIES:Expos
LOCATION:Maison de la Magie -Blois\, Place du château 41000 BLOIS\, France
X-APPLE-STRUCTURED-LOCATION;VALUE=URI;X-ADDRESS=Place du château 41000 BLO
 IS\, France;X-APPLE-RADIUS=100;X-TITLE=Maison de la Magie -Blois:geo:0,0
END:VEVENT
END:VCALENDAR