BEGIN:VCALENDAR
VERSION:2.0
PRODID:-//wp-events-plugin.com//7.1.7//EN
TZID:Europe/Paris
X-WR-TIMEZONE:Europe/Paris
BEGIN:VEVENT
UID:0-2263@nouvelles-renaissances.com
DTSTART:20260718T000000Z
DTEND:20260718T235959Z
DTSTAMP:20260323T082044Z
URL:https://www.nouvelles-renaissances.com/evenements/festival-jour-de-che
 r/
SUMMARY:Festival Jour de Cher
DESCRIPTION:Les temps forts du Festival: Un défilé nautique 7 sites de la
  vallée du Cher mis en valeur Des compagnies professionnelles pour animer
  les maisons éclusières et les barrages à aiguilles Un marché gourmand
  à partir de 16h à Bléré\, sur les bords du Cher Le championnat du mon
 de de lancer d’aiguilles de barrage Un spectacle pyrotechnique\nInformat
 ions et réservation :\nPlus d'informations sur www.jourdecher.fr
ATTACH;FMTTYPE=image/jpeg:https://www.nouvelles-renaissances.com/app/uploa
 ds/1/2026/03/jourdecher@fabiengarou_69b18aef3d4955.70043816.jpg
CATEGORIES:Festivals / Nocturnes,Vélo
LOCATION:Bléré\, 37150 Bléré\, France
X-APPLE-STRUCTURED-LOCATION;VALUE=URI;X-ADDRESS=37150 Bléré\, France;X-AP
 PLE-RADIUS=100;X-TITLE=Bléré:geo:0,0
END:VEVENT
END:VCALENDAR