BEGIN:VCALENDAR
VERSION:2.0
PRODID:-//wp-events-plugin.com//7.1.7//EN
TZID:Europe/Paris
X-WR-TIMEZONE:Europe/Paris
BEGIN:VEVENT
UID:0-2240@nouvelles-renaissances.com
DTSTART:20260704T000000Z
DTEND:20260704T235959Z
DTSTAMP:20260303T110133Z
URL:https://www.nouvelles-renaissances.com/evenements/ohdi-voyage-dun-soir
 -85-musiciens-100-chanteurs-60-danseurs-4-juillet-2026/
SUMMARY:OHDI – Voyage d’un soir
DESCRIPTION:Dans le salon de Papy\, Izaia et Rosalie écoutent une histoire
  qui semble ordinaire… jusqu’à ce que la musique ouvre les mondes. De
  ce récit intime naît une fresque spectaculaire où l’imaginaire prend
  vie en grand format. Sur scène : 85 musiciens\, 100 chanteurs et 60 dans
 eurs\, soit 245 artistes réunis pour un événement régional d’ampleur
  exceptionnelle. Un grand spectacle harmonique en plein air\, mêlant narr
 ation\, puissance orchestrale\, chant et énergie chorégraphique. \nHisto
 ire originale : Maxime Dollo &amp\; Cécile Mihoub Direction de l’orches
 tre : Ludovic Rabier Chorégraphies : Cécile Mihoub Direction des chœurs
  : Denis Reignoux &amp\; Maxime Dollo \nInformations et réservation :\nEN
 TREE LIBRE\nProgramme de la soirée : \n18h30 : ouverture du site\, buvett
 e et food trucks \n19h30 : première partie – groupes live \n21h30 : gra
 nd spectacle de l’OHDI / Voyage d’un soir \n23h00 : After show festif 
 avec groupes live et espace convivialité \nTout au long de la soirée\, u
 n village gourmand (buvette et food trucks) accueillera le public dans une
  ambiance estivale et conviviale. \nRéservations obligatoires sur :  http
 s://lachapellefaitsonshow.com
ATTACH;FMTTYPE=image/jpeg:https://www.nouvelles-renaissances.com/app/uploa
 ds/1/2026/02/OHDI-4-JUILLET-copie_699ddffab96e81.94042771.jpg
CATEGORIES:Gastronomie,Spectacles / Concerts
LOCATION:La Chapelle -Poulaines\, 28, la chapelle 36210 Poulaines\, France
X-APPLE-STRUCTURED-LOCATION;VALUE=URI;X-ADDRESS=28, la chapelle 36210 Poula
 ines\, France;X-APPLE-RADIUS=100;X-TITLE=La Chapelle -Poulaines:geo:0,0
END:VEVENT
END:VCALENDAR