BEGIN:VCALENDAR
VERSION:2.0
PRODID:-//wp-events-plugin.com//7.1.7//EN
TZID:Europe/Paris
X-WR-TIMEZONE:Europe/Paris
BEGIN:VEVENT
UID:0-2201@nouvelles-renaissances.com
DTSTART:20260718T000000Z
DTEND:20260718T235959Z
DTSTAMP:20260216T091836Z
URL:https://www.nouvelles-renaissances.com/evenements/spectacle-campagnes/
SUMMARY:Spectacle "Campagne(s)"
DESCRIPTION:Ecriture et scénographie par Jean-Yves Patte\, interprétation
  par Anne Trémolières (comédienne) et Sandrine Charluet (musicienne)\, 
 spectacle conçu dans le cadre de l’année George Sand pour relier l’
 écrivaine célèbre à Raymonde Vincent\, Prix Femina en 1937 pour son ro
 man Campagne\, et à Betty Jacquey\, écrivaine à la plume patoisante\nIn
 formations et réservation :\nSpectacle  à 18h dans la Grange aux lions d
 u Manoir des fauves-Musée Sarah Caryth \nRéservation conseillée au 06 7
 9 13 67 95\nTarif 10 euros à partir de 12 ans
ATTACH;FMTTYPE=image/jpeg:https://www.nouvelles-renaissances.com/app/uploa
 ds/1/2026/02/Grange-aux-lions-Manoir-des-fauves-copyright-Isabelle-Hannequ
 art_698ccc40db2559.15072072.jpg
CATEGORIES:Spectacles / Concerts
LOCATION:Manoir des fauves -St Lactencin\, 13, rue du stade 36500 Saint-Lac
 tencin\, France
X-APPLE-STRUCTURED-LOCATION;VALUE=URI;X-ADDRESS=13, rue du stade 36500 Sain
 t-Lactencin\, France;X-APPLE-RADIUS=100;X-TITLE=Manoir des fauves -St Lact
 encin:geo:0,0
END:VEVENT
END:VCALENDAR